BEGIN:VCALENDAR
VERSION:2.0
PRODID:-//Australian Chamber for Immigrant and Foreign Entrepreneurs - ECPv6.15.18//NONSGML v1.0//EN
CALSCALE:GREGORIAN
METHOD:PUBLISH
X-ORIGINAL-URL:https://acife.org.au
X-WR-CALDESC:Events for Australian Chamber for Immigrant and Foreign Entrepreneurs
REFRESH-INTERVAL;VALUE=DURATION:PT1H
X-Robots-Tag:noindex
X-PUBLISHED-TTL:PT1H
BEGIN:VTIMEZONE
TZID:UTC
BEGIN:STANDARD
TZOFFSETFROM:+0000
TZOFFSETTO:+0000
TZNAME:UTC
DTSTART:20230101T000000
END:STANDARD
END:VTIMEZONE
BEGIN:VEVENT
DTSTART;TZID=UTC:20241127T161500
DTEND;TZID=UTC:20241127T183000
DTSTAMP:20260419T170340
CREATED:20241119T054204Z
LAST-MODIFIED:20241119T054823Z
UID:2527-1732724100-1732732200@acife.org.au
SUMMARY:Grow Smart: Key Insights for Small Business Success
DESCRIPTION:Are you an immigrant entrepreneur planning to start or grow a business in Australia? Join us for an insightful business workshop designed to equip you with the knowledge\, resources\, and networking oppurtunities essential for your success. Learn from award-winning finance\, mortgage\, and tax professionals who understand the unique challenges of establishing and running a business in a new country. \nLocation\nCorporate House\n138 Juliette Street Greenslopes\, QLD 4120 Australia. \n\nAgenda\n4:15 PM- Guest Arrival \n4:25 PM – Welcome Speech \n4:30 PM – 4:50 PM – Presenation 1: “From Cashflow to Wealth Creation” Speaker: Pedream Firooztash of Financial Grace Investment Service \n4:50 PM – 5:00 PM -Q&A Session \n5:00 PM – 5:20 PM – Presentation 2: “Why Choose a Mortgage Broker?” Speaker: Kieran Jefferies of Olleh Lending \n5:20 PM – 5:30 PM – Q&A Session \n5:30 PM – 5:50 PM- Presentation 3: “Strategies to Legally Minimize Your Tax” Speaker Dan Geekiyanage of Austral Accountants \n5:50 PM – 6:00 PM – Q&A Session \n6:00 PM – 6:30 PM – Networking & Refreshments
URL:https://acife.org.au/event/grow-smart-key-insights-for-small-business-success/
LOCATION:Australia\, 138 Juliette Street Greenslopes\, Brisbane\, QLD\, 4120\, Australia
CATEGORIES:Seminars
ATTACH;FMTTYPE=image/jpeg:https://acife.org.au/wp-content/uploads/2021/03/Grow-Smart-Key-Insights-for-Small-Business-Success-acife-event-Nov-1.jpg
END:VEVENT
END:VCALENDAR